BEGIN:VCALENDAR
VERSION:2.0
PRODID:-//Pays d&#039;Aixcalade - ECPv4.9.4//NONSGML v1.0//EN
CALSCALE:GREGORIAN
METHOD:PUBLISH
X-WR-CALNAME:Pays d&#039;Aixcalade
X-ORIGINAL-URL:https://www.paysdaixcalade.fr
X-WR-CALDESC:Évènements pour Pays d&#039;Aixcalade
BEGIN:VTIMEZONE
TZID:"Europe/Paris"
BEGIN:DAYLIGHT
TZOFFSETFROM:+0100
TZOFFSETTO:+0200
TZNAME:CEST
DTSTART:20260329T010000
END:DAYLIGHT
BEGIN:STANDARD
TZOFFSETFROM:+0200
TZOFFSETTO:+0100
TZNAME:CET
DTSTART:20261025T010000
END:STANDARD
END:VTIMEZONE
BEGIN:VEVENT
DTSTART;TZID="Europe/Paris":20260524T084500
DTEND;TZID="Europe/Paris":20260524T163000
DTSTAMP:20260425T142928
CREATED:20161127T173643Z
LAST-MODIFIED:20260320T170031Z
UID:16914-1779612300-1779640200@www.paysdaixcalade.fr
SUMMARY:Chateauvert
DESCRIPTION:Sortie falaise à Chateauvert dans le Var. C’est un lieu magnifique situé sur la commune de Correns. Il y a peu de marche d’approche et la rivière Argens coule au pied des voies. Les voies vont du 4A au 6C avec de belles longueurs. Sortie à ne pas rater. Des randonnées sont possible autour pour les accompagnants.\nDépart du gymnase Cournand.\n
URL:https://www.paysdaixcalade.fr/event/sortie-falaise-7-chateauvert/
LOCATION:Chateauvert\, Chateauvert\, France
CATEGORIES:Falaise,Sortie falaise
ATTACH;FMTTYPE=image/jpeg:https://www.paysdaixcalade.fr/wp-content/uploads/2016/11/SAM_4279-e1512295522165.jpg
ORGANIZER;CN="Pays%20d%27Aixcalade":MAILTO:contact@paysdaixcalade.fr
END:VEVENT
END:VCALENDAR